BEGIN:VCALENDAR
VERSION:2.0
PRODID:-//Akademie für Gesang NRW e. V. - ECPv5.16.1.1//NONSGML v1.0//EN
CALSCALE:GREGORIAN
METHOD:PUBLISH
X-ORIGINAL-URL:https://www.akademie-gesang.de
X-WR-CALDESC:Events for Akademie für Gesang NRW e. V.
REFRESH-INTERVAL;VALUE=DURATION:PT1H
X-Robots-Tag:noindex
X-PUBLISHED-TTL:PT1H
BEGIN:VTIMEZONE
TZID:Europe/Berlin
BEGIN:DAYLIGHT
TZOFFSETFROM:+0100
TZOFFSETTO:+0200
TZNAME:CEST
DTSTART:20240331T010000
END:DAYLIGHT
BEGIN:STANDARD
TZOFFSETFROM:+0200
TZOFFSETTO:+0100
TZNAME:CET
DTSTART:20241027T010000
END:STANDARD
END:VTIMEZONE
BEGIN:VEVENT
DTSTART;TZID=Europe/Berlin:20240217T190000
DTEND;TZID=Europe/Berlin:20240217T210000
DTSTAMP:20260420T130520
CREATED:20240223T121203Z
LAST-MODIFIED:20240223T121203Z
UID:3937-1708196400-1708203600@www.akademie-gesang.de
SUMMARY:CDU Kreisverband Winterball
DESCRIPTION:Am 17. Februar 2024 findet der CDU-Winterball im Goldsaal der Westfalenhallen statt. \nAuch unser Vokalensemble ist mit dabei. \n  \n \n 
URL:https://www.akademie-gesang.de/projekt/cdu-kreisverband-winterball/
LOCATION:Kongresszentrum Westfalenhallen\, Strobelallee 41\, Dortmund\, NRW\, 44139\, Deutschland
CATEGORIES:Fest
ATTACH;FMTTYPE=image/png:https://www.akademie-gesang.de/wp-content/uploads/2024/02/Screenshot-2024-02-16-143346.png
GEO:51.4954265;7.4561067
X-APPLE-STRUCTURED-LOCATION;VALUE=URI;X-ADDRESS=Kongresszentrum Westfalenhallen Strobelallee 41 Dortmund NRW 44139 Deutschland;X-APPLE-RADIUS=500;X-TITLE=Strobelallee 41:geo:7.4561067,51.4954265
END:VEVENT
END:VCALENDAR