BEGIN:VCALENDAR
VERSION:2.0
PRODID:-//Akademie für Gesang NRW e. V. - ECPv5.16.1.1//NONSGML v1.0//EN
CALSCALE:GREGORIAN
METHOD:PUBLISH
X-ORIGINAL-URL:https://www.akademie-gesang.de
X-WR-CALDESC:Events for Akademie für Gesang NRW e. V.
REFRESH-INTERVAL;VALUE=DURATION:PT1H
X-Robots-Tag:noindex
X-PUBLISHED-TTL:PT1H
BEGIN:VTIMEZONE
TZID:Europe/Berlin
BEGIN:DAYLIGHT
TZOFFSETFROM:+0100
TZOFFSETTO:+0200
TZNAME:CEST
DTSTART:20240331T010000
END:DAYLIGHT
BEGIN:STANDARD
TZOFFSETFROM:+0200
TZOFFSETTO:+0100
TZNAME:CET
DTSTART:20241027T010000
END:STANDARD
BEGIN:DAYLIGHT
TZOFFSETFROM:+0100
TZOFFSETTO:+0200
TZNAME:CEST
DTSTART:20250330T010000
END:DAYLIGHT
BEGIN:STANDARD
TZOFFSETFROM:+0200
TZOFFSETTO:+0100
TZNAME:CET
DTSTART:20251026T010000
END:STANDARD
END:VTIMEZONE
BEGIN:VEVENT
DTSTART;TZID=Europe/Berlin:20251130T100000
DTEND;TZID=Europe/Berlin:20251130T113000
DTSTAMP:20260420T160828
CREATED:20250714T170623Z
LAST-MODIFIED:20250714T170634Z
UID:5070-1764496800-1764502200@www.akademie-gesang.de
SUMMARY:Familiengottesdienst
DESCRIPTION:Am Ersten Advent\, dem 30.11.2025\, gestalten die Vorchöre der Akademie für Gesang den Familiengottesdienst musikalisch mit. Wir freuen uns\, wenn auch Sie bei dem Gottesdienst um 10 Uhr in der Ev. Patrokluskirche dabei sind.
URL:https://www.akademie-gesang.de/projekt/familienglttesdienst/
LOCATION:Ev. Patrokluskirche Kirchhörde\, Patroklusweg 19\, Dortmund
CATEGORIES:Gottesdienst
ATTACH;FMTTYPE=image/webp:https://www.akademie-gesang.de/wp-content/uploads/2025/05/Phil-logo__msi___jpg.webp
GEO:51.4541864;7.4605287
X-APPLE-STRUCTURED-LOCATION;VALUE=URI;X-ADDRESS=Ev. Patrokluskirche Kirchhörde Patroklusweg 19 Dortmund;X-APPLE-RADIUS=500;X-TITLE=Patroklusweg 19:geo:7.4605287,51.4541864
END:VEVENT
BEGIN:VEVENT
DTSTART;TZID=Europe/Berlin:20251005T100000
DTEND;TZID=Europe/Berlin:20251005T113000
DTSTAMP:20260420T160828
CREATED:20250714T171352Z
LAST-MODIFIED:20250714T171352Z
UID:5074-1759658400-1759663800@www.akademie-gesang.de
SUMMARY:Musikalischer Familiengottesdienst zum Erntedankfest
DESCRIPTION:Am 05.10.2025 singt der Konzertchor der Akademie für Gesang in der Ev. Patrokluskirche während des Familiengottesdienst um 10 Uhr. Kommen Sie gerne vorbei und genießen Sie diesen musikalischen Gottesdienst.
URL:https://www.akademie-gesang.de/projekt/musikalischer-familiengottesdienst-zum-erntedankfest/
LOCATION:Ev. Patrokluskirche Kirchhörde\, Patroklusweg 19\, Dortmund
CATEGORIES:Gottesdienst
ATTACH;FMTTYPE=image/jpeg:https://www.akademie-gesang.de/wp-content/uploads/2022/11/Korea-Besetzung-vor-Abreise-c-Holger-Jacoby-scaled.jpg
GEO:51.4541864;7.4605287
X-APPLE-STRUCTURED-LOCATION;VALUE=URI;X-ADDRESS=Ev. Patrokluskirche Kirchhörde Patroklusweg 19 Dortmund;X-APPLE-RADIUS=500;X-TITLE=Patroklusweg 19:geo:7.4605287,51.4541864
END:VEVENT
BEGIN:VEVENT
DTSTART;TZID=Europe/Berlin:20241201T100000
DTEND;TZID=Europe/Berlin:20241201T110000
DTSTAMP:20260420T160828
CREATED:20241130T120505Z
LAST-MODIFIED:20241130T120505Z
UID:4551-1733047200-1733050800@www.akademie-gesang.de
SUMMARY:Musikalischer Adventsgottesdienst
DESCRIPTION:Am 01. Advent wird die evangelische Patrokluskirche in Kirchhörde von weihnachtlichen Melodien gefüllt. Der Kinderchor der Akademie für Gesang NRW gestaltet den Adventsgottesdienst mit und lädt Sie herzlich ein\, sich mit uns gemeinsam auf die Weihnachtszeit einzustellen und den Adventsgottesdienst der Ev. Philippus-Kirchengemeinde Dortmund zu besuchen. \n 
URL:https://www.akademie-gesang.de/projekt/musikalischer-adventsgottesdienst/
LOCATION:Ev. Patrokluskirche Kirchhörde\, Patroklusweg 19\, Dortmund
CATEGORIES:Gottesdienst
ATTACH;FMTTYPE=image/png:https://www.akademie-gesang.de/wp-content/uploads/2022/11/20070709_patrokluskirche-kirchhorde.png
GEO:51.4541864;7.4605287
X-APPLE-STRUCTURED-LOCATION;VALUE=URI;X-ADDRESS=Ev. Patrokluskirche Kirchhörde Patroklusweg 19 Dortmund;X-APPLE-RADIUS=500;X-TITLE=Patroklusweg 19:geo:7.4605287,51.4541864
END:VEVENT
END:VCALENDAR