BEGIN:VCALENDAR
VERSION:2.0
PRODID:-//Akademie für Gesang NRW e. V. - ECPv5.16.1.1//NONSGML v1.0//EN
CALSCALE:GREGORIAN
METHOD:PUBLISH
X-ORIGINAL-URL:https://www.akademie-gesang.de
X-WR-CALDESC:Events for Akademie für Gesang NRW e. V.
REFRESH-INTERVAL;VALUE=DURATION:PT1H
X-Robots-Tag:noindex
X-PUBLISHED-TTL:PT1H
BEGIN:VTIMEZONE
TZID:Europe/Berlin
BEGIN:DAYLIGHT
TZOFFSETFROM:+0100
TZOFFSETTO:+0200
TZNAME:CEST
DTSTART:20240331T010000
END:DAYLIGHT
BEGIN:STANDARD
TZOFFSETFROM:+0200
TZOFFSETTO:+0100
TZNAME:CET
DTSTART:20241027T010000
END:STANDARD
BEGIN:DAYLIGHT
TZOFFSETFROM:+0100
TZOFFSETTO:+0200
TZNAME:CEST
DTSTART:20250330T010000
END:DAYLIGHT
BEGIN:STANDARD
TZOFFSETFROM:+0200
TZOFFSETTO:+0100
TZNAME:CET
DTSTART:20251026T010000
END:STANDARD
END:VTIMEZONE
BEGIN:VEVENT
DTSTART;VALUE=DATE:20250612
DTEND;VALUE=DATE:20250613
DTSTAMP:20260419T141548
CREATED:20250118T130953Z
LAST-MODIFIED:20250305T141734Z
UID:4627-1749686400-1749772799@www.akademie-gesang.de
SUMMARY:Landessiegerehrung NRW Mathematikwettbewerb
DESCRIPTION:Auch in diesem Jahr freut sich die Akademie für Gesang NRW die Siegerehrung des Landesweiten Mathematikwettbewerbs für Grundschüler musikalisch zu gestalten. \n \nWeitere Infos können Sie hier finden.
URL:https://www.akademie-gesang.de/projekt/landessiegerehrung-nrw-mathematikwettbewerb-2/
LOCATION:LWL-Industriemuseum Zeche Zollern\, Grubenweg 5\, Dortmund\, 44388\, Deutschland
CATEGORIES:Konzert
ATTACH;FMTTYPE=image/png:https://www.akademie-gesang.de/wp-content/uploads/2024/02/Screenshot-2024-02-23-142329.png
GEO:51.5186194;7.3348033
X-APPLE-STRUCTURED-LOCATION;VALUE=URI;X-ADDRESS=LWL-Industriemuseum Zeche Zollern Grubenweg 5 Dortmund 44388 Deutschland;X-APPLE-RADIUS=500;X-TITLE=Grubenweg 5:geo:7.3348033,51.5186194
END:VEVENT
BEGIN:VEVENT
DTSTART;TZID=Europe/Berlin:20240612T170000
DTEND;TZID=Europe/Berlin:20240612T184500
DTSTAMP:20260419T141548
CREATED:20240223T131640Z
LAST-MODIFIED:20240613T064825Z
UID:3957-1718211600-1718217900@www.akademie-gesang.de
SUMMARY:Landessiegerehrung NRW Mathematikwettbewerb
DESCRIPTION:Wie in den vergangenen Jahren wird die Akademie für Gesang NRW bei der Siegerehrung des Landeswettbewerbs Mathematik musikalisch mitwirken. \n  \n \nWeitere Infos: \nLandesweiter Mathematikwettbewerb der Grundschulen in NRW (grundschulmathewettbewerb-nrw.de)
URL:https://www.akademie-gesang.de/projekt/landessiegerehrung-nrw-mathematikwettbewerb/
LOCATION:LWL-Industriemuseum Zeche Zollern\, Grubenweg 5\, Dortmund\, 44388\, Deutschland
CATEGORIES:Konzert
ATTACH;FMTTYPE=image/png:https://www.akademie-gesang.de/wp-content/uploads/2024/02/Screenshot-2024-02-23-142329.png
GEO:51.5186194;7.3348033
X-APPLE-STRUCTURED-LOCATION;VALUE=URI;X-ADDRESS=LWL-Industriemuseum Zeche Zollern Grubenweg 5 Dortmund 44388 Deutschland;X-APPLE-RADIUS=500;X-TITLE=Grubenweg 5:geo:7.3348033,51.5186194
END:VEVENT
END:VCALENDAR