BEGIN:VCALENDAR
VERSION:2.0
PRODID:-//Akademie für Gesang NRW e. V. - ECPv5.16.1.1//NONSGML v1.0//EN
CALSCALE:GREGORIAN
METHOD:PUBLISH
X-ORIGINAL-URL:https://www.akademie-gesang.de
X-WR-CALDESC:Events for Akademie für Gesang NRW e. V.
REFRESH-INTERVAL;VALUE=DURATION:PT1H
X-Robots-Tag:noindex
X-PUBLISHED-TTL:PT1H
BEGIN:VTIMEZONE
TZID:Europe/Berlin
BEGIN:DAYLIGHT
TZOFFSETFROM:+0100
TZOFFSETTO:+0200
TZNAME:CEST
DTSTART:20240331T010000
END:DAYLIGHT
BEGIN:STANDARD
TZOFFSETFROM:+0200
TZOFFSETTO:+0100
TZNAME:CET
DTSTART:20241027T010000
END:STANDARD
END:VTIMEZONE
BEGIN:VEVENT
DTSTART;TZID=Europe/Berlin:20241213T180000
DTEND;TZID=Europe/Berlin:20241213T190000
DTSTAMP:20260420T143146
CREATED:20241207T134659Z
LAST-MODIFIED:20241207T134659Z
UID:4591-1734112800-1734116400@www.akademie-gesang.de
SUMMARY:Adventsgottesdienst des Rotary Clubs
DESCRIPTION:Der Rotary Club Dortmund-Neutor lädt am 13.12.2024 zu einem Adventsgottesdienst in der Kath. Kirche St. Kaiser Heinrich ein. Um 18 Uhr beginnt der Gottesdienst und wird musikalisch vom Konzertchor der Akademie für Gesang NRW begleitet. Wir laden Sie herzlich ein\, den Gottesdienst zu besuchen und freuen uns auf den schönen Abend. 
URL:https://www.akademie-gesang.de/projekt/adventsgottesdienst-des-rotary-clubs/
LOCATION:Kath. Kirche St. Kaiser Heinrich\, Höchstener Str. 71\, Dortmund\, 44267\, Deutschland
CATEGORIES:Gottesdienst
ATTACH;FMTTYPE=image/jpeg:https://www.akademie-gesang.de/wp-content/uploads/2022/05/Akademie-fuer-Gesang-03-Klaus-Hartmann-scaled.jpg
GEO:51.4599856;7.5328028
X-APPLE-STRUCTURED-LOCATION;VALUE=URI;X-ADDRESS=Kath. Kirche St. Kaiser Heinrich Höchstener Str. 71 Dortmund 44267 Deutschland;X-APPLE-RADIUS=500;X-TITLE=Höchstener Str. 71:geo:7.5328028,51.4599856
END:VEVENT
END:VCALENDAR