BEGIN:VCALENDAR
VERSION:2.0
PRODID:-//Akademie für Gesang NRW e. V. - ECPv5.16.1.1//NONSGML v1.0//EN
CALSCALE:GREGORIAN
METHOD:PUBLISH
X-ORIGINAL-URL:https://www.akademie-gesang.de
X-WR-CALDESC:Events for Akademie für Gesang NRW e. V.
REFRESH-INTERVAL;VALUE=DURATION:PT1H
X-Robots-Tag:noindex
X-PUBLISHED-TTL:PT1H
BEGIN:VTIMEZONE
TZID:Europe/Berlin
BEGIN:DAYLIGHT
TZOFFSETFROM:+0100
TZOFFSETTO:+0200
TZNAME:CEST
DTSTART:20260329T010000
END:DAYLIGHT
BEGIN:STANDARD
TZOFFSETFROM:+0200
TZOFFSETTO:+0100
TZNAME:CET
DTSTART:20261025T010000
END:STANDARD
END:VTIMEZONE
BEGIN:VEVENT
DTSTART;VALUE=DATE:20260905
DTEND;VALUE=DATE:20260906
DTSTAMP:20260419T151132
CREATED:20260409T153051Z
LAST-MODIFIED:20260409T153051Z
UID:5546-1788566400-1788652799@www.akademie-gesang.de
SUMMARY:Auftritt beim Firmenjubiläum von TRD-Busreisen
DESCRIPTION:Anlässlich seines 66. Jubiläums veranstaltet das Busunternehmen „TRD-Busreisen“ eine interne Firmenfeier\, auf der die Konzertchöre der Akademie für Gesang singen dürfen.\nDas Dortmunder Familienunternehmen ist im städtischen Buslinienverkehr sowie im Bus-Charterverkehr aktiv und somit kritischer Teil der lokalen Infrastruktur. \nWir freuen uns dieses festliche Jubiläum musikalisch begleiten zu dürfen!
URL:https://www.akademie-gesang.de/projekt/auftritt-beim-firmenjubilaeum-von-trd-busreisen/
CATEGORIES:Fest,Konzert
ATTACH;FMTTYPE=image/jpeg:https://www.akademie-gesang.de/wp-content/uploads/2026/02/JACOBY_20250906-Akademie_Gesang-0714-scaled.jpg
ORGANIZER;CN="TRD-Busreisen":MAILTO:info@trd-reisen.com
END:VEVENT
END:VCALENDAR