BEGIN:VCALENDAR
VERSION:2.0
PRODID:-//Akademie für Gesang NRW e. V. - ECPv5.16.1.1//NONSGML v1.0//EN
CALSCALE:GREGORIAN
METHOD:PUBLISH
X-ORIGINAL-URL:https://www.akademie-gesang.de
X-WR-CALDESC:Events for Akademie für Gesang NRW e. V.
REFRESH-INTERVAL;VALUE=DURATION:PT1H
X-Robots-Tag:noindex
X-PUBLISHED-TTL:PT1H
BEGIN:VTIMEZONE
TZID:Europe/Berlin
BEGIN:DAYLIGHT
TZOFFSETFROM:+0100
TZOFFSETTO:+0200
TZNAME:CEST
DTSTART:20220327T010000
END:DAYLIGHT
BEGIN:STANDARD
TZOFFSETFROM:+0200
TZOFFSETTO:+0100
TZNAME:CET
DTSTART:20221030T010000
END:STANDARD
END:VTIMEZONE
BEGIN:VEVENT
DTSTART;TZID=Europe/Berlin:20221112T160000
DTEND;TZID=Europe/Berlin:20221112T180000
DTSTAMP:20260419T151901
CREATED:20221115T150732Z
LAST-MODIFIED:20221115T150732Z
UID:2951-1668268800-1668276000@www.akademie-gesang.de
SUMMARY:10. Konzert für die Wiedervereinigung Koreas
DESCRIPTION:In Leipzig hat am 12.11. das 10. Konzert für eine friedliche Wiedervereinigung Koreas stattgefunden.
URL:https://www.akademie-gesang.de/projekt/10-konzert-fuer-die-wiedervereinigung-koreas/
LOCATION:Alte Börse\, Naschmarkt 1\, Leipzig\, Sachsen\, 04109\, Deutschland
CATEGORIES:Konzert
ATTACH;FMTTYPE=image/jpeg:https://www.akademie-gesang.de/wp-content/uploads/2022/11/bb64c3ed-e930-421d-b49c-e242a65b54d7.jpg
GEO:51.340632;12.3757446
X-APPLE-STRUCTURED-LOCATION;VALUE=URI;X-ADDRESS=Alte Börse Naschmarkt 1 Leipzig Sachsen 04109 Deutschland;X-APPLE-RADIUS=500;X-TITLE=Naschmarkt 1:geo:12.3757446,51.340632
END:VEVENT
END:VCALENDAR