BEGIN:VCALENDAR
VERSION:2.0
PRODID:-//Akademie für Gesang NRW e. V. - ECPv5.16.1.1//NONSGML v1.0//EN
CALSCALE:GREGORIAN
METHOD:PUBLISH
X-WR-CALNAME:Akademie für Gesang NRW e. V.
X-ORIGINAL-URL:https://www.akademie-gesang.de
X-WR-CALDESC:Events for Akademie für Gesang NRW e. V.
REFRESH-INTERVAL;VALUE=DURATION:PT1H
X-Robots-Tag:noindex
X-PUBLISHED-TTL:PT1H
BEGIN:VTIMEZONE
TZID:Europe/Berlin
BEGIN:DAYLIGHT
TZOFFSETFROM:+0100
TZOFFSETTO:+0200
TZNAME:CEST
DTSTART:20250330T010000
END:DAYLIGHT
BEGIN:STANDARD
TZOFFSETFROM:+0200
TZOFFSETTO:+0100
TZNAME:CET
DTSTART:20251026T010000
END:STANDARD
END:VTIMEZONE
BEGIN:VEVENT
DTSTART;TZID=Europe/Berlin:20250504T110000
DTEND;TZID=Europe/Berlin:20250504T120000
DTSTAMP:20260420T124244
CREATED:20250430T190142Z
LAST-MODIFIED:20250430T190350Z
UID:4951-1746356400-1746360000@www.akademie-gesang.de
SUMMARY:Verleihung der Zelter- und ProMusica Plaketten NRW
DESCRIPTION:Anlässlich des 100. Geburtstages des Verbandes Deutscher Konzertchöre werden am 04.05.2025 im Bergbaumuseum in Bochum die Zelter- und ProMusica Plaketten NRW vergeben. Unser Quartett\, das auch beim diesjährigen Jugend musiziert Bundeswettbewerb antreten wird\, darf diese Veranstaltung musikalisch bereichern.
URL:https://www.akademie-gesang.de/projekt/verleihung-der-zelter-und-promusica-plaketten-nrw/
LOCATION:Bergbaumuseum Bochum\, Am Bergbaumuseum 28\, Bochum\, 44791\, Deutschland
CATEGORIES:Konzert
ATTACH;FMTTYPE=image/jpeg:https://www.akademie-gesang.de/wp-content/uploads/2025/04/7AF5BAD7-7873-433E-899C-ECE9C1117A9E.jpeg
GEO:51.4895917;7.2169778
X-APPLE-STRUCTURED-LOCATION;VALUE=URI;X-ADDRESS=Bergbaumuseum Bochum Am Bergbaumuseum 28 Bochum 44791 Deutschland;X-APPLE-RADIUS=500;X-TITLE=Am Bergbaumuseum 28:geo:7.2169778,51.4895917
END:VEVENT
END:VCALENDAR