BEGIN:VCALENDAR
VERSION:2.0
PRODID:-//Akademie für Gesang NRW e. V. - ECPv5.16.1.1//NONSGML v1.0//EN
CALSCALE:GREGORIAN
METHOD:PUBLISH
X-WR-CALNAME:Akademie für Gesang NRW e. V.
X-ORIGINAL-URL:https://www.akademie-gesang.de
X-WR-CALDESC:Events for Akademie für Gesang NRW e. V.
REFRESH-INTERVAL;VALUE=DURATION:PT1H
X-Robots-Tag:noindex
X-PUBLISHED-TTL:PT1H
BEGIN:VTIMEZONE
TZID:Europe/Berlin
BEGIN:DAYLIGHT
TZOFFSETFROM:+0100
TZOFFSETTO:+0200
TZNAME:CEST
DTSTART:20230326T010000
END:DAYLIGHT
BEGIN:STANDARD
TZOFFSETFROM:+0200
TZOFFSETTO:+0100
TZNAME:CET
DTSTART:20231029T010000
END:STANDARD
END:VTIMEZONE
BEGIN:VEVENT
DTSTART;TZID=Europe/Berlin:20231212T183000
DTEND;TZID=Europe/Berlin:20231212T193000
DTSTAMP:20260426T063705
CREATED:20230909T113921Z
LAST-MODIFIED:20231127T083139Z
UID:3578-1702405800-1702409400@www.akademie-gesang.de
SUMMARY:Weihnachtskonzert 2023
DESCRIPTION:In diesem Jahr werden unsere Chöre in der ev. Kirchengemeinde Bochum-Werne singen und für weihnachtliche Stimmung sorgen. \n\nDie Veranstaltung bietet eine hervorragende Gelegenheit\, die Feiertage mit musikalischer Darbietung zu feiern. Das Programm umfasst eine breite Palette an Stücken\, die speziell für die Weihnachtszeit ausgewählt wurden\, und sorgt für eine fröhliche und festliche Atmosphäre. Wir laden Sie herzlich ein\, sich uns anzuschließen und in den Gesang einzutauchen. \n\n  \n \n  \n  \nMit \nVorchöre ABC \nKonzertchöre der Akademie für Gesang NRW \nZeljo und Narae Davutovic (Chorleiter*in)
URL:https://www.akademie-gesang.de/projekt/weihnachtskonzert-2023-2/
LOCATION:ev. Kirchengemeinde Bochum-Werne\, Kreyenfeldstraße 32\, Bochum\, NRW\, 44894\, Deutschland
CATEGORIES:Weihnachtskonzert
ATTACH;FMTTYPE=image/jpeg:https://www.akademie-gesang.de/wp-content/uploads/2023/11/2022-RAG-Weihnachten-scaled-1.jpg
ORGANIZER;CN="Akademie%20f%C3%BCr%20Gesang%20NRW%20e.%20V.":MAILTO:info@akademie-gesang.de
GEO:51.4871449;7.3084413
X-APPLE-STRUCTURED-LOCATION;VALUE=URI;X-ADDRESS=ev. Kirchengemeinde Bochum-Werne Kreyenfeldstraße 32 Bochum NRW 44894 Deutschland;X-APPLE-RADIUS=500;X-TITLE=Kreyenfeldstraße 32:geo:7.3084413,51.4871449
END:VEVENT
BEGIN:VEVENT
DTSTART;TZID=Europe/Berlin:20231213T183000
DTEND;TZID=Europe/Berlin:20231213T193000
DTSTAMP:20260426T063705
CREATED:20231031T112655Z
LAST-MODIFIED:20231127T083258Z
UID:3587-1702492200-1702495800@www.akademie-gesang.de
SUMMARY:Weihnachtskonzert 2023
DESCRIPTION:  \nIn diesem Jahr werden unsere Chöre in der ev. Kirchengemeinde Bochum-Werne singen und für weihnachtliche Stimmung sorgen. \n  \nDie Veranstaltung bietet eine hervorragende Gelegenheit\, die Feiertage mit musikalischer Darbietung zu feiern. Das Programm umfasst eine breite Palette an Stücken\, die speziell für die Weihnachtszeit ausgewählt wurden\, und sorgt für eine fröhliche und festliche Atmosphäre. Wir laden Sie herzlich ein\, sich uns anzuschließen und in den Gesang einzutauchen. \n\n  \n \n  \n  \nMit \nVorchöre ABC \nKonzertchöre der Akademie für Gesang NRW \nZeljo und Narae Davutovic (Chorleiter*in) \n  \n  \n 
URL:https://www.akademie-gesang.de/projekt/weihnachtskonzert-2023-3/
LOCATION:ev. Kirchengemeinde Bochum-Werne\, Kreyenfeldstraße 32\, Bochum\, NRW\, 44894\, Deutschland
CATEGORIES:Weihnachtskonzert
ATTACH;FMTTYPE=image/jpeg:https://www.akademie-gesang.de/wp-content/uploads/2023/11/2022-RAG-Weihnachten-scaled-1.jpg
GEO:51.4871449;7.3084413
X-APPLE-STRUCTURED-LOCATION;VALUE=URI;X-ADDRESS=ev. Kirchengemeinde Bochum-Werne Kreyenfeldstraße 32 Bochum NRW 44894 Deutschland;X-APPLE-RADIUS=500;X-TITLE=Kreyenfeldstraße 32:geo:7.3084413,51.4871449
END:VEVENT
BEGIN:VEVENT
DTSTART;TZID=Europe/Berlin:20231219T183000
DTEND;TZID=Europe/Berlin:20231219T193000
DTSTAMP:20260426T063705
CREATED:20230909T102219Z
LAST-MODIFIED:20231127T083340Z
UID:3574-1703010600-1703014200@www.akademie-gesang.de
SUMMARY:Weihnachtskonzert 2023
DESCRIPTION:  \nHören Sie unsere Chöre mit einem weihnachtlichen Programm. \nDie Veranstaltung bietet eine hervorragende Gelegenheit\, die Feiertage mit musikalischer Darbietung zu feiern. Das Programm umfasst eine breite Palette an Stücken\, die speziell für die Weihnachtszeit ausgewählt wurden\, und sorgt für eine fröhliche und festliche Atmosphäre. Wir laden Sie herzlich ein\, sich uns anzuschließen und in den Gesang einzutauchen. \n  \n \nFoto: Wolle H; Fotocommunity\n  \nMit \nChor BC der Akademie für Gesang NRW \nKonzertchöre der Akademie für Gesang NRW \nZeljo Davutovic (Chorleiter)
URL:https://www.akademie-gesang.de/projekt/weihnachtskonzert-2023/
LOCATION:ev. Kirchengemeinde Bochum-Werne\, Kreyenfeldstraße 32\, Bochum\, NRW\, 44894\, Deutschland
CATEGORIES:Weihnachtskonzert
ATTACH;FMTTYPE=image/jpeg:https://www.akademie-gesang.de/wp-content/uploads/2023/11/2022-RAG-Weihnachten-scaled-1.jpg
ORGANIZER;CN="Akademie%20f%C3%BCr%20Gesang%20NRW%20e.%20V.":MAILTO:info@akademie-gesang.de
GEO:51.4871449;7.3084413
X-APPLE-STRUCTURED-LOCATION;VALUE=URI;X-ADDRESS=ev. Kirchengemeinde Bochum-Werne Kreyenfeldstraße 32 Bochum NRW 44894 Deutschland;X-APPLE-RADIUS=500;X-TITLE=Kreyenfeldstraße 32:geo:7.3084413,51.4871449
END:VEVENT
END:VCALENDAR