BEGIN:VCALENDAR
VERSION:2.0
PRODID:-//Akademie für Gesang NRW e. V. - ECPv5.16.1.1//NONSGML v1.0//EN
CALSCALE:GREGORIAN
METHOD:PUBLISH
X-WR-CALNAME:Akademie für Gesang NRW e. V.
X-ORIGINAL-URL:https://www.akademie-gesang.de
X-WR-CALDESC:Events for Akademie für Gesang NRW e. V.
REFRESH-INTERVAL;VALUE=DURATION:PT1H
X-Robots-Tag:noindex
X-PUBLISHED-TTL:PT1H
BEGIN:VTIMEZONE
TZID:Europe/Berlin
BEGIN:DAYLIGHT
TZOFFSETFROM:+0100
TZOFFSETTO:+0200
TZNAME:CEST
DTSTART:20230326T010000
END:DAYLIGHT
BEGIN:STANDARD
TZOFFSETFROM:+0200
TZOFFSETTO:+0100
TZNAME:CET
DTSTART:20231029T010000
END:STANDARD
END:VTIMEZONE
BEGIN:VEVENT
DTSTART;TZID=Europe/Berlin:20230806T103000
DTEND;TZID=Europe/Berlin:20230806T120000
DTSTAMP:20260420T125331
CREATED:20230909T105328Z
LAST-MODIFIED:20230909T105328Z
UID:3310-1691317800-1691323200@www.akademie-gesang.de
SUMMARY:Einweihung neues Gemeindehaus FeG
DESCRIPTION:Am 06. August 2023 feierte die Akademie für Gesang NRW\, im Sinne eines Gottesdienstes\, gemeinsam mit der freien evangelischen Gemeinde Bochum-Ost\, die Einweihung in ein neues Gemeindehaus. \n  \nSeit etwa 2010 entwickelt sich die Gemeinde kontinuierlich. Wer gelegentlich zum Gottesdienst kommt\, hat vielleicht schon bemerkt\, dass es im Gemeindehaus seitdem ziemlich eng geworden ist. Aus diesem Grund plante die Gemeinde seit einigen Jahren den Umzug in größere Räumlichkeiten. Ziel ist es\, noch mehr Menschen die Möglichkeit zu geben\, an den Veranstaltungen teilzunehmen. \n  \n \n  \nMit \nSascha Rützenhoff (Bundessekretär im Bund FeG) \nAnna W.\, Akademie für Gesang NRW \nJoy Katzmarzik \nVertreterinnen und Vertretern von Stadt und Ökumene \n  \n \n 
URL:https://www.akademie-gesang.de/projekt/einweihung-neues-gemeindehaus-feg/
LOCATION:Freie evangelische Gemeinde Bochum-Ost\, In den Langenstuken 10\, Bochum\, NRW\, 44892\, Deutschland
ATTACH;FMTTYPE=image/jpeg:https://www.akademie-gesang.de/wp-content/uploads/2023/08/2023-08-07-Bildschirmfoto-Gemeindezentrum-FeG-e1691414272558.jpg
GEO:51.4769602;7.3050236
X-APPLE-STRUCTURED-LOCATION;VALUE=URI;X-ADDRESS=Freie evangelische Gemeinde Bochum-Ost In den Langenstuken 10 Bochum NRW 44892 Deutschland;X-APPLE-RADIUS=500;X-TITLE=In den Langenstuken 10:geo:7.3050236,51.4769602
END:VEVENT
END:VCALENDAR