BEGIN:VCALENDAR
VERSION:2.0
PRODID:-//Akademie für Gesang NRW e. V. - ECPv5.16.1.1//NONSGML v1.0//EN
CALSCALE:GREGORIAN
METHOD:PUBLISH
X-WR-CALNAME:Akademie für Gesang NRW e. V.
X-ORIGINAL-URL:https://www.akademie-gesang.de
X-WR-CALDESC:Events for Akademie für Gesang NRW e. V.
REFRESH-INTERVAL;VALUE=DURATION:PT1H
X-Robots-Tag:noindex
X-PUBLISHED-TTL:PT1H
BEGIN:VTIMEZONE
TZID:Europe/Berlin
BEGIN:DAYLIGHT
TZOFFSETFROM:+0100
TZOFFSETTO:+0200
TZNAME:CEST
DTSTART:20250330T010000
END:DAYLIGHT
BEGIN:STANDARD
TZOFFSETFROM:+0200
TZOFFSETTO:+0100
TZNAME:CET
DTSTART:20251026T010000
END:STANDARD
END:VTIMEZONE
BEGIN:VEVENT
DTSTART;TZID=Europe/Berlin:20250201T115000
DTEND;TZID=Europe/Berlin:20250201T122000
DTSTAMP:20260421T120626
CREATED:20250120T163601Z
LAST-MODIFIED:20250125T161722Z
UID:4639-1738410600-1738412400@www.akademie-gesang.de
SUMMARY:Regionalwettbewerb Jugend musiziert Hamm
DESCRIPTION:Am Samstag\, den 01. Februar 2025 geht es mit unserer Teilnahme am Wettbewerb Jugend musiziert weiter. In der Aula des Gymnasium Hammonense in Hamm (Adenauerallee 2 \, 59065 Hamm) treten zwei Vokalensembles der Akademie für Gesang NRW an. \nUm 11:50 Uhr singen Josima S. und Merle Sch. \nUm 12:05 Uhr singen Cecilia H.\, Eva M.\, Güneş M. und Ema R. \nWir wünschen den Sängerinnen viel Erfolg und Spaß!
URL:https://www.akademie-gesang.de/projekt/regionalwettbewerb-jugend-musiziert-hamm/
LOCATION:Gymnasium Hammonense\, Adenauerallee 2\, Hamm\, 59065\, Deutschland
CATEGORIES:Wettbewerb
ATTACH;FMTTYPE=image/jpeg:https://www.akademie-gesang.de/wp-content/uploads/2025/01/logo_jugend_musiziert.jpg
GEO:51.6839421;7.8178341
X-APPLE-STRUCTURED-LOCATION;VALUE=URI;X-ADDRESS=Gymnasium Hammonense Adenauerallee 2 Hamm 59065 Deutschland;X-APPLE-RADIUS=500;X-TITLE=Adenauerallee 2:geo:7.8178341,51.6839421
END:VEVENT
END:VCALENDAR