BEGIN:VCALENDAR
VERSION:2.0
PRODID:-//Akademie für Gesang NRW e. V. - ECPv5.16.1.1//NONSGML v1.0//EN
CALSCALE:GREGORIAN
METHOD:PUBLISH
X-WR-CALNAME:Akademie für Gesang NRW e. V.
X-ORIGINAL-URL:https://www.akademie-gesang.de
X-WR-CALDESC:Events for Akademie für Gesang NRW e. V.
REFRESH-INTERVAL;VALUE=DURATION:PT1H
X-Robots-Tag:noindex
X-PUBLISHED-TTL:PT1H
BEGIN:VTIMEZONE
TZID:Europe/Berlin
BEGIN:DAYLIGHT
TZOFFSETFROM:+0100
TZOFFSETTO:+0200
TZNAME:CEST
DTSTART:20230326T010000
END:DAYLIGHT
BEGIN:STANDARD
TZOFFSETFROM:+0200
TZOFFSETTO:+0100
TZNAME:CET
DTSTART:20231029T010000
END:STANDARD
END:VTIMEZONE
BEGIN:VEVENT
DTSTART;VALUE=DATE:20230604
DTEND;VALUE=DATE:20230605
DTSTAMP:20260420T124050
CREATED:20230417T080451Z
LAST-MODIFIED:20230417T080451Z
UID:2992-1685836800-1685923199@www.akademie-gesang.de
SUMMARY:Deutscher Chorwettbewerb
DESCRIPTION:Am Sonntag\, den 04.06. nimmt unser Konzertchor 1 an dem 11. deutschen Chorwettbewerb in der Kategorie „Kinderchöre mit Instrumenten“ in Hannover teil. Nach einem hervorragenden Ergebnis von 23 Punkten beim Landes-Chorwettbewerb\, freuen wir uns umso mehr auf den Bundeswettbewerb. Wir drücken den Sängerinnen und Sängern und Zeljo Davutovic ganz fest die Daumen. \nWettbewerb | Deutscher Chorwettbewerb (deutscher-chorwettbewerb.de)
URL:https://www.akademie-gesang.de/projekt/deutscher-chorwettbewerb/
LOCATION:Hannover\, Deutschland
CATEGORIES:Wettbewerb
ATTACH;FMTTYPE=image/png:https://www.akademie-gesang.de/wp-content/uploads/2023/04/Foto-HP-Chorwettbewerb.png
GEO:51.165691;10.451526
END:VEVENT
BEGIN:VEVENT
DTSTART;VALUE=DATE:20230605
DTEND;VALUE=DATE:20230606
DTSTAMP:20260420T124050
CREATED:20230417T080524Z
LAST-MODIFIED:20230417T080524Z
UID:3027-1685923200-1686009599@www.akademie-gesang.de
SUMMARY:Deutscher Chorwettbewerb
DESCRIPTION:Am Montag\, den 05.06. nimmt unser Konzertchor 2 an dem 11. deutschen Chorwettbewerb in der Kategorie „Kinderchor a capella“ in Hannover teil. Nach einem hervorragenden Ergebnis von 23\,8 Punkten beim Landes-Chorwettbewerb\, freuen wir uns umso mehr auf den Bundeswettbewerb. Wir drücken den Sängerinnen und Narae Joung Davutovic ganz fest die Daumen. \nWettbewerb | Deutscher Chorwettbewerb (deutscher-chorwettbewerb.de)
URL:https://www.akademie-gesang.de/projekt/deutscher-chorwettbewerb-2/
LOCATION:Hannover\, Deutschland
CATEGORIES:Wettbewerb
ATTACH;FMTTYPE=image/png:https://www.akademie-gesang.de/wp-content/uploads/2023/04/Foto-HP-Chorwettbewerb.png
GEO:51.165691;10.451526
END:VEVENT
END:VCALENDAR