BEGIN:VCALENDAR
VERSION:2.0
PRODID:-//Akademie für Gesang NRW e. V. - ECPv5.16.1.1//NONSGML v1.0//EN
CALSCALE:GREGORIAN
METHOD:PUBLISH
X-WR-CALNAME:Akademie für Gesang NRW e. V.
X-ORIGINAL-URL:https://www.akademie-gesang.de
X-WR-CALDESC:Events for Akademie für Gesang NRW e. V.
REFRESH-INTERVAL;VALUE=DURATION:PT1H
X-Robots-Tag:noindex
X-PUBLISHED-TTL:PT1H
BEGIN:VTIMEZONE
TZID:Europe/Berlin
BEGIN:DAYLIGHT
TZOFFSETFROM:+0100
TZOFFSETTO:+0200
TZNAME:CEST
DTSTART:20240331T010000
END:DAYLIGHT
BEGIN:STANDARD
TZOFFSETFROM:+0200
TZOFFSETTO:+0100
TZNAME:CET
DTSTART:20241027T010000
END:STANDARD
END:VTIMEZONE
BEGIN:VEVENT
DTSTART;TZID=Europe/Berlin:20240521T200000
DTEND;TZID=Europe/Berlin:20240521T210000
DTSTAMP:20260419T150954
CREATED:20240613T070547Z
LAST-MODIFIED:20240613T070608Z
UID:4181-1716321600-1716325200@www.akademie-gesang.de
SUMMARY:Konsularischer Abend - Düsseldorfer Jonges
DESCRIPTION:Unser Vokalensemble unter der Leitung von Narae Joung Davutović umrahmt  diesen Abend musikalisch mit traditionellen deutschen und koreanischen Liedern. \n  \nGastgeber: \nSeungjae Huh\, Generalkonsul Republik Korea \n \n 
URL:https://www.akademie-gesang.de/projekt/konsularischer-abend-duesseldorfer-jonges/
LOCATION:Henkel Saal\, Ratinger Straße 25\, Düsseldorf\, NRW\, 40213
ATTACH;FMTTYPE=image/png:https://www.akademie-gesang.de/wp-content/uploads/2024/05/Screenshot-2024-05-17-134803.png
GEO:51.2294023;6.7755324
X-APPLE-STRUCTURED-LOCATION;VALUE=URI;X-ADDRESS=Henkel Saal Ratinger Straße 25 Düsseldorf NRW 40213;X-APPLE-RADIUS=500;X-TITLE=Ratinger Straße 25:geo:6.7755324,51.2294023
END:VEVENT
END:VCALENDAR