BEGIN:VCALENDAR
VERSION:2.0
PRODID:-//Akademie für Gesang NRW e. V. - ECPv5.16.1.1//NONSGML v1.0//EN
CALSCALE:GREGORIAN
METHOD:PUBLISH
X-ORIGINAL-URL:https://www.akademie-gesang.de
X-WR-CALDESC:Events for Akademie für Gesang NRW e. V.
REFRESH-INTERVAL;VALUE=DURATION:PT1H
X-Robots-Tag:noindex
X-PUBLISHED-TTL:PT1H
BEGIN:VTIMEZONE
TZID:Europe/Berlin
BEGIN:DAYLIGHT
TZOFFSETFROM:+0100
TZOFFSETTO:+0200
TZNAME:CEST
DTSTART:20230326T010000
END:DAYLIGHT
BEGIN:STANDARD
TZOFFSETFROM:+0200
TZOFFSETTO:+0100
TZNAME:CET
DTSTART:20231029T010000
END:STANDARD
END:VTIMEZONE
BEGIN:VEVENT
DTSTART;VALUE=DATE:20230122
DTEND;VALUE=DATE:20230123
DTSTAMP:20260420T125329
CREATED:20230228T070320Z
LAST-MODIFIED:20230228T123446Z
UID:2953-1674345600-1674431999@www.akademie-gesang.de
SUMMARY:voc.cologne 2023 - Festival für populäre Vokalmusik
DESCRIPTION:Workshops und Coachings des Vokalquartetts mit und bei Julia Reckendrees (Jazzchor der Uni Köln)\, \nJan-Hendrik Herrmann (Jazzchor der Uni Bonn)\, VOCES8 (London) \nAuftritt Open Stage
URL:https://www.akademie-gesang.de/projekt/voc-cologne-2023-festival-fuer-populaere-vokalmusik/
LOCATION:Hochschule für Musik und Tanz Köln\, Unter Krahnenbäumen 87\, Köln\, 50668\, Deutschland
ATTACH;FMTTYPE=image/jpeg:https://www.akademie-gesang.de/wp-content/uploads/2023/02/start_voccologne_plakat_474.jpg
GEO:50.9475211;6.9612187
X-APPLE-STRUCTURED-LOCATION;VALUE=URI;X-ADDRESS=Hochschule für Musik und Tanz Köln Unter Krahnenbäumen 87 Köln 50668 Deutschland;X-APPLE-RADIUS=500;X-TITLE=Unter Krahnenbäumen 87:geo:6.9612187,50.9475211
END:VEVENT
END:VCALENDAR