BEGIN:VCALENDAR
VERSION:2.0
PRODID:-//Akademie für Gesang NRW e. V. - ECPv5.16.1.1//NONSGML v1.0//EN
CALSCALE:GREGORIAN
METHOD:PUBLISH
X-ORIGINAL-URL:https://www.akademie-gesang.de
X-WR-CALDESC:Events for Akademie für Gesang NRW e. V.
REFRESH-INTERVAL;VALUE=DURATION:PT1H
X-Robots-Tag:noindex
X-PUBLISHED-TTL:PT1H
BEGIN:VTIMEZONE
TZID:Europe/Berlin
BEGIN:DAYLIGHT
TZOFFSETFROM:+0100
TZOFFSETTO:+0200
TZNAME:CEST
DTSTART:20260329T010000
END:DAYLIGHT
BEGIN:STANDARD
TZOFFSETFROM:+0200
TZOFFSETTO:+0100
TZNAME:CET
DTSTART:20261025T010000
END:STANDARD
END:VTIMEZONE
BEGIN:VEVENT
DTSTART;TZID=Europe/Berlin:20260321T120000
DTEND;TZID=Europe/Berlin:20260321T150000
DTSTAMP:20260419T135658
CREATED:20260220T133936Z
LAST-MODIFIED:20260220T133936Z
UID:5492-1774094400-1774105200@www.akademie-gesang.de
SUMMARY:Auftritt bei Atomy in Bonn
DESCRIPTION:Beim Firmenjubiläum der koreanischen Firma Atomy singt eine kleine Besetzung unseres Konzertchores  am 21.03.2026 im Hotel Maritim in Bonn. Bei zwei Auftritten werden sie Lieder vortragen.
URL:https://www.akademie-gesang.de/projekt/auftritt-bei-atomy-in-bonn/
LOCATION:Hotel Maritim Bonn\, Kurt-Georg-Kiesinger-Allee 1\, Bonn\, NRW\, 53175\, Deutschland
CATEGORIES:Konzert
ATTACH;FMTTYPE=image/jpeg:https://www.akademie-gesang.de/wp-content/uploads/2022/05/Konzertchor-2-auf-der-Buehne-c-Florian-Stracke-scaled.jpg
END:VEVENT
END:VCALENDAR