BEGIN:VCALENDAR
VERSION:2.0
PRODID:-//Akademie für Gesang NRW e. V. - ECPv5.16.1.1//NONSGML v1.0//EN
CALSCALE:GREGORIAN
METHOD:PUBLISH
X-ORIGINAL-URL:https://www.akademie-gesang.de
X-WR-CALDESC:Events for Akademie für Gesang NRW e. V.
REFRESH-INTERVAL;VALUE=DURATION:PT1H
X-Robots-Tag:noindex
X-PUBLISHED-TTL:PT1H
BEGIN:VTIMEZONE
TZID:Europe/Berlin
BEGIN:DAYLIGHT
TZOFFSETFROM:+0100
TZOFFSETTO:+0200
TZNAME:CEST
DTSTART:20260329T010000
END:DAYLIGHT
BEGIN:STANDARD
TZOFFSETFROM:+0200
TZOFFSETTO:+0100
TZNAME:CET
DTSTART:20261025T010000
END:STANDARD
END:VTIMEZONE
BEGIN:VEVENT
DTSTART;VALUE=DATE:20260612
DTEND;VALUE=DATE:20260615
DTSTAMP:20260420T110826
CREATED:20260126T093934Z
LAST-MODIFIED:20260415T143929Z
UID:5328-1781222400-1781481599@www.akademie-gesang.de
SUMMARY:Probenwochenende der BC-Chöre 2026
DESCRIPTION:Auch im Jahr 2026 fahren wir wieder mit unseren BC-Chören zu unserem gemeinsamen Probenwochenende in die Jugendburg in Gemen. Die Unterkunft verfügt über ein riesiges Außengelände und tolle Probenräume und ist uns schon von der Chorreise im Jahr 2025 bekannt. \nWir werden ein tolles Wochenende mit viel Programm und natürlich viel Singen verbringen.
URL:https://www.akademie-gesang.de/projekt/probenwochenende-bc-2026/
LOCATION:Jugendburg Gemen\, Schlossplatz 1\, Borken-Gemen\, NRW\, 46325\, Deutschland
CATEGORIES:Fahrt
ATTACH;FMTTYPE=image/jpeg:https://www.akademie-gesang.de/wp-content/uploads/2026/01/Unterkunft-Foto-1.jpg
ORGANIZER;CN="Akademie%20f%C3%BCr%20Gesang%20NRW%20e.%20V.":MAILTO:info@akademie-gesang.de
GEO:51.5135872;7.4652981
X-APPLE-STRUCTURED-LOCATION;VALUE=URI;X-ADDRESS=Jugendburg Gemen Schlossplatz 1 Borken-Gemen NRW 46325 Deutschland;X-APPLE-RADIUS=500;X-TITLE=Schlossplatz 1:geo:7.4652981,51.5135872
END:VEVENT
END:VCALENDAR