BEGIN:VCALENDAR
VERSION:2.0
PRODID:-//Akademie für Gesang NRW e. V. - ECPv5.16.1.1//NONSGML v1.0//EN
CALSCALE:GREGORIAN
METHOD:PUBLISH
X-ORIGINAL-URL:https://www.akademie-gesang.de
X-WR-CALDESC:Events for Akademie für Gesang NRW e. V.
REFRESH-INTERVAL;VALUE=DURATION:PT1H
X-Robots-Tag:noindex
X-PUBLISHED-TTL:PT1H
BEGIN:VTIMEZONE
TZID:Europe/Berlin
BEGIN:DAYLIGHT
TZOFFSETFROM:+0100
TZOFFSETTO:+0200
TZNAME:CEST
DTSTART:20250330T010000
END:DAYLIGHT
BEGIN:STANDARD
TZOFFSETFROM:+0200
TZOFFSETTO:+0100
TZNAME:CET
DTSTART:20251026T010000
END:STANDARD
END:VTIMEZONE
BEGIN:VEVENT
DTSTART;VALUE=DATE:20250703
DTEND;VALUE=DATE:20250705
DTSTAMP:20260420T124444
CREATED:20250329T100755Z
LAST-MODIFIED:20250703T081020Z
UID:4762-1751500800-1751673599@www.akademie-gesang.de
SUMMARY:Global Summit of Women
DESCRIPTION:Die „Global Summit of Women“ Stiftung setzt sich für Frauen in Führungspositionen weltweit ein. Am 03. Juli wird die Akademie für Gesang bei der Eröffnungszeremonie um 17 Uhr zu hören sein und am 04. Juli  zudem das Korea Seminar musikalisch begleiten. Wir freuen uns sehr über diese Zusammenarbeit.
URL:https://www.akademie-gesang.de/projekt/global-summit-of-women/
LOCATION:JW Mariott Berlin\, Stauffenbergstrasse 26\, Berlin\, 10785\, Deutschland
CATEGORIES:Konzert
ATTACH;FMTTYPE=image/png:https://www.akademie-gesang.de/wp-content/uploads/2025/02/Global-Summit-of-Women-LOgo.png
GEO:52.5076829;13.3637284
X-APPLE-STRUCTURED-LOCATION;VALUE=URI;X-ADDRESS=JW Mariott Berlin Stauffenbergstrasse 26 Berlin 10785 Deutschland;X-APPLE-RADIUS=500;X-TITLE=Stauffenbergstrasse 26:geo:13.3637284,52.5076829
END:VEVENT
END:VCALENDAR