BEGIN:VCALENDAR
VERSION:2.0
PRODID:-//Akademie für Gesang NRW e. V. - ECPv5.16.1.1//NONSGML v1.0//EN
CALSCALE:GREGORIAN
METHOD:PUBLISH
X-ORIGINAL-URL:https://www.akademie-gesang.de
X-WR-CALDESC:Events for Akademie für Gesang NRW e. V.
REFRESH-INTERVAL;VALUE=DURATION:PT1H
X-Robots-Tag:noindex
X-PUBLISHED-TTL:PT1H
BEGIN:VTIMEZONE
TZID:Europe/Berlin
BEGIN:DAYLIGHT
TZOFFSETFROM:+0100
TZOFFSETTO:+0200
TZNAME:CEST
DTSTART:20220327T010000
END:DAYLIGHT
BEGIN:STANDARD
TZOFFSETFROM:+0200
TZOFFSETTO:+0100
TZNAME:CET
DTSTART:20221030T010000
END:STANDARD
END:VTIMEZONE
BEGIN:VEVENT
DTSTART;TZID=Europe/Berlin:20220609T110000
DTEND;TZID=Europe/Berlin:20220609T120000
DTSTAMP:20260420T124519
CREATED:20220624T131613Z
LAST-MODIFIED:20220628T135537Z
UID:2607-1654772400-1654776000@www.akademie-gesang.de
SUMMARY:Matinee der Sonderpreisträger:innen\, Jugend musiziert
DESCRIPTION:
URL:https://www.akademie-gesang.de/projekt/matinee-der-sonderpreistraegerinnen-jugend-musiziert/
LOCATION:Kulturzentrum PFL\, Peterstraße 3\, Oldenburg\, 26121\, Deutschland
CATEGORIES:Wettbewerb
ATTACH;FMTTYPE=image/jpeg:https://www.akademie-gesang.de/wp-content/uploads/2022/06/JACOBY_20220609-Akademie_Gesang-232_web.jpg
GEO:53.1428881;8.2075286
X-APPLE-STRUCTURED-LOCATION;VALUE=URI;X-ADDRESS=Kulturzentrum PFL Peterstraße 3 Oldenburg 26121 Deutschland;X-APPLE-RADIUS=500;X-TITLE=Peterstraße 3:geo:8.2075286,53.1428881
END:VEVENT
END:VCALENDAR