BEGIN:VCALENDAR
VERSION:2.0
PRODID:-//Akademie für Gesang NRW e. V. - ECPv5.16.1.1//NONSGML v1.0//EN
CALSCALE:GREGORIAN
METHOD:PUBLISH
X-WR-CALNAME:Akademie für Gesang NRW e. V.
X-ORIGINAL-URL:https://www.akademie-gesang.de
X-WR-CALDESC:Events for Akademie für Gesang NRW e. V.
REFRESH-INTERVAL;VALUE=DURATION:PT1H
X-Robots-Tag:noindex
X-PUBLISHED-TTL:PT1H
BEGIN:VTIMEZONE
TZID:Europe/Berlin
BEGIN:DAYLIGHT
TZOFFSETFROM:+0100
TZOFFSETTO:+0200
TZNAME:CEST
DTSTART:20230326T010000
END:DAYLIGHT
BEGIN:STANDARD
TZOFFSETFROM:+0200
TZOFFSETTO:+0100
TZNAME:CET
DTSTART:20231029T010000
END:STANDARD
BEGIN:DAYLIGHT
TZOFFSETFROM:+0100
TZOFFSETTO:+0200
TZNAME:CEST
DTSTART:20240331T010000
END:DAYLIGHT
BEGIN:STANDARD
TZOFFSETFROM:+0200
TZOFFSETTO:+0100
TZNAME:CET
DTSTART:20241027T010000
END:STANDARD
BEGIN:DAYLIGHT
TZOFFSETFROM:+0100
TZOFFSETTO:+0200
TZNAME:CEST
DTSTART:20250330T010000
END:DAYLIGHT
BEGIN:STANDARD
TZOFFSETFROM:+0200
TZOFFSETTO:+0100
TZNAME:CET
DTSTART:20251026T010000
END:STANDARD
BEGIN:DAYLIGHT
TZOFFSETFROM:+0100
TZOFFSETTO:+0200
TZNAME:CEST
DTSTART:20260329T010000
END:DAYLIGHT
BEGIN:STANDARD
TZOFFSETFROM:+0200
TZOFFSETTO:+0100
TZNAME:CET
DTSTART:20261025T010000
END:STANDARD
END:VTIMEZONE
BEGIN:VEVENT
DTSTART;TZID=Europe/Berlin:20231028T190000
DTEND;TZID=Europe/Berlin:20231028T220000
DTSTAMP:20260420T124337
CREATED:20230905T143518Z
LAST-MODIFIED:20231103T141218Z
UID:3351-1698519600-1698530400@www.akademie-gesang.de
SUMMARY:Festveranstaltung "Bajazzo"
DESCRIPTION:Die Theater- und Konzertfreunde Dortmund e.V. verleihen in diesem Jahr nach einer Pause\, aufgrund der Pandemie\, den Förderpreis „Bajazzo“ an herausragende Leistungen von Dortmunder Kunstschaffenden. Darunter auch unsere Sänger*innen der Akademie für Gesang NRW\, denn beim Bundesdeutschen Chorwettbewerb des Bundesmusikrats haben wir sogar zweimal den Titel „Deutscher Meister“ gewonnen. Die Besucher der Veranstaltung waren von den Künstler*innen begeistert. \nAm 28. Oktober 2023 findet eine Festveranstaltung im Orchesterzentrum|NRW in Dortmund statt\, bei der die offizielle Auszeichnung verliehen wird. \n  \n \n  \nMit \nIna Brandes (Schirmherrin\, Kultur- und Wissenschaftsministerin NRW) \nKonzertchor der Akademie für Gesang NRW \n„Young Masterclass“ der Glen Buschmann Jazzakademie \nJugendTanzTheaterBallettDortmund \nKJT (Kinder- und Jugendtheater) \nMaria Bovensmann (Cellistin) \nYuto (Hip-Hop-Rap Künstler) \n 
URL:https://www.akademie-gesang.de/projekt/festveranstaltung-bajazzo/
LOCATION:Orchesterzentrum NRW\, Brückstraße 47\, Dortmund\, NRW\, 44135\, Deutschland
CATEGORIES:Fest
ATTACH;FMTTYPE=image/png:https://www.akademie-gesang.de/wp-content/uploads/2023/11/logo-bajazzo-stiftung.png
GEO:51.516975;7.46537
X-APPLE-STRUCTURED-LOCATION;VALUE=URI;X-ADDRESS=Orchesterzentrum NRW Brückstraße 47 Dortmund NRW 44135 Deutschland;X-APPLE-RADIUS=500;X-TITLE=Brückstraße 47:geo:7.46537,51.516975
END:VEVENT
BEGIN:VEVENT
DTSTART;TZID=Europe/Berlin:20250223T150000
DTEND;TZID=Europe/Berlin:20250223T163000
DTSTAMP:20260420T124337
CREATED:20250222T120427Z
LAST-MODIFIED:20250222T121206Z
UID:4768-1740322800-1740328200@www.akademie-gesang.de
SUMMARY:Preisträgerkonzert Regionalwettbewerb Dortmund
DESCRIPTION:Am Sonntag\, den 23. Februar 2025 um 15 Uhr findet das Preisträgerkonzert des Regionalwettbewerbs Dortmund statt. Viele Ensembles und Vokal-Duette der Akademie für Gesang haben sehr erfolgreich teilgenommen und sind zum Landeswettbewerb weitergeleitet worden und einige besondere Stücke dürfen wir beim Preisträgerkonzert präsentieren.
URL:https://www.akademie-gesang.de/projekt/preistraegerkonzert-regionalwettbewerb-dortmund/
LOCATION:Orchesterzentrum NRW\, Brückstraße 47\, Dortmund\, NRW\, 44135\, Deutschland
CATEGORIES:Konzert
ATTACH;FMTTYPE=image/jpeg:https://www.akademie-gesang.de/wp-content/uploads/2025/01/logo_jugend_musiziert.jpg
GEO:51.516975;7.46537
X-APPLE-STRUCTURED-LOCATION;VALUE=URI;X-ADDRESS=Orchesterzentrum NRW Brückstraße 47 Dortmund NRW 44135 Deutschland;X-APPLE-RADIUS=500;X-TITLE=Brückstraße 47:geo:7.46537,51.516975
END:VEVENT
BEGIN:VEVENT
DTSTART;TZID=Europe/Berlin:20260222T110000
DTEND;TZID=Europe/Berlin:20260222T130000
DTSTAMP:20260420T124337
CREATED:20260208T130731Z
LAST-MODIFIED:20260208T130731Z
UID:5401-1771758000-1771765200@www.akademie-gesang.de
SUMMARY:JuMu Preisträgerkonzert des Regionalwettbewerbs Dortmund
DESCRIPTION:Das Preisträgerkonzert des Regionalwettbewerbes von „Jugend Musiziert“ in Dortmund 2026 findet statt! Dort werden im Orchesterzentrum Dortmund am 22.02.2026 ab 11 Uhr Preisträger der Altersgruppen I und II singen. Für die Akademie für Gesang NRW singt Johann. \nWir gratulieren den Preisträgern!
URL:https://www.akademie-gesang.de/projekt/jumu-preistraegerkonzert-des-regionalwettbewerbs-dortmund/
LOCATION:Orchesterzentrum NRW\, Brückstraße 47\, Dortmund\, NRW\, 44135\, Deutschland
ATTACH;FMTTYPE=image/jpeg:https://www.akademie-gesang.de/wp-content/uploads/2026/01/jumu-logo-1.jpg
GEO:51.516975;7.46537
X-APPLE-STRUCTURED-LOCATION;VALUE=URI;X-ADDRESS=Orchesterzentrum NRW Brückstraße 47 Dortmund NRW 44135 Deutschland;X-APPLE-RADIUS=500;X-TITLE=Brückstraße 47:geo:7.46537,51.516975
END:VEVENT
END:VCALENDAR