BEGIN:VCALENDAR
VERSION:2.0
PRODID:-//Akademie für Gesang NRW e. V. - ECPv5.16.1.1//NONSGML v1.0//EN
CALSCALE:GREGORIAN
METHOD:PUBLISH
X-WR-CALNAME:Akademie für Gesang NRW e. V.
X-ORIGINAL-URL:https://www.akademie-gesang.de
X-WR-CALDESC:Events for Akademie für Gesang NRW e. V.
REFRESH-INTERVAL;VALUE=DURATION:PT1H
X-Robots-Tag:noindex
X-PUBLISHED-TTL:PT1H
BEGIN:VTIMEZONE
TZID:Europe/Berlin
BEGIN:DAYLIGHT
TZOFFSETFROM:+0100
TZOFFSETTO:+0200
TZNAME:CEST
DTSTART:20260329T010000
END:DAYLIGHT
BEGIN:STANDARD
TZOFFSETFROM:+0200
TZOFFSETTO:+0100
TZNAME:CET
DTSTART:20261025T010000
END:STANDARD
END:VTIMEZONE
BEGIN:VEVENT
DTSTART;TZID=Europe/Berlin:20260427T180000
DTEND;TZID=Europe/Berlin:20260427T190000
DTSTAMP:20260419T145803
CREATED:20260409T161327Z
LAST-MODIFIED:20260409T161327Z
UID:5622-1777312800-1777316400@www.akademie-gesang.de
SUMMARY:Klassennachmittag von Natalija Radosavljevic
DESCRIPTION:Natalija Radosavljevic ist Gesangspädagogin an der Akademie für Gesang NRW. Am Montag\, den 27.04.2026 um 18 Uhr\, veranstaltet sie mit Schülerinnen und Schülern ihrer Gesangsklasse einen Klassennachmittag bei uns im Probenzentrum Brackel. Angehörige der Sängerinnen und Sänger sind herzlich eingeladen\, zuzuhören und zu unterstützen!
URL:https://www.akademie-gesang.de/projekt/klassennachmittag-von-natalija-radosavljevic/
LOCATION:Probenzentrum\, Dortmund\, NRW\, Deutschland
CATEGORIES:Solo-Konzert
ATTACH;FMTTYPE=image/png:https://www.akademie-gesang.de/wp-content/uploads/2021/07/cropped-favicon.png
ORGANIZER;CN="Akademie%20f%C3%BCr%20Gesang%20NRW%20e.%20V.":MAILTO:info@akademie-gesang.de
GEO:51.52015;7.55504
END:VEVENT
END:VCALENDAR