BEGIN:VCALENDAR
VERSION:2.0
PRODID:-//Akademie für Gesang NRW e. V. - ECPv5.16.1.1//NONSGML v1.0//EN
CALSCALE:GREGORIAN
METHOD:PUBLISH
X-WR-CALNAME:Akademie für Gesang NRW e. V.
X-ORIGINAL-URL:https://www.akademie-gesang.de
X-WR-CALDESC:Events for Akademie für Gesang NRW e. V.
REFRESH-INTERVAL;VALUE=DURATION:PT1H
X-Robots-Tag:noindex
X-PUBLISHED-TTL:PT1H
BEGIN:VTIMEZONE
TZID:Europe/Berlin
BEGIN:DAYLIGHT
TZOFFSETFROM:+0100
TZOFFSETTO:+0200
TZNAME:CEST
DTSTART:20230326T010000
END:DAYLIGHT
BEGIN:STANDARD
TZOFFSETFROM:+0200
TZOFFSETTO:+0100
TZNAME:CET
DTSTART:20231029T010000
END:STANDARD
END:VTIMEZONE
BEGIN:VEVENT
DTSTART;TZID=Europe/Berlin:20231217T160000
DTEND;TZID=Europe/Berlin:20231217T180000
DTSTAMP:20260421T132936
CREATED:20231104T100925Z
LAST-MODIFIED:20231104T100925Z
UID:3644-1702828800-1702836000@www.akademie-gesang.de
SUMMARY:Weihnachtskonzert RAG
DESCRIPTION:Auch in diesem Jahr gastiert der Konzertchor im Festspielhaus Recklinghausen. Musikalische Partner sind der Ruhrkohle-Chor und das Kammerorchester der Dortmunder Philharmoniker. \n  \n1987 wurde der Ruhrkohle-Chor auf Initiative der RAG Aktiengesellschaft gegründet. 2016 gründete sich der Ruhrkohle-Musik e.V.\, dem der Ruhrkohle-Chor angehört. Nach ereignisreichen Jahren kann der Ruhrkohle-Chor auf viele Erfolge zurückblicken. \n  \nDie Veranstaltung bietet eine hervorragende Gelegenheit\, die Feiertage mit musikalischer Darbietung zu feiern. Das Programm umfasst eine breite Palette an Stücken\, die speziell für die Weihnachtszeit ausgewählt wurden\, und sorgt für eine fröhliche und festliche Atmosphäre. Wir laden Sie herzlich ein\, sich uns anzuschließen und in den Gesang einzutauchen. \n  \nMit \nAkademie für Gesang NRW \nRuhrkohle-Chor \nKammerorchester der Dortmunder Philharmoniker
URL:https://www.akademie-gesang.de/projekt/weihnachtskonzert-rag/
LOCATION:Ruhrfestspielhaus\, Otto-Burrmeister-Allee 1\, Recklinghausen\, NRW\, 45657\, Deutschland
CATEGORIES:Weihnachtskonzert
ATTACH;FMTTYPE=image/jpeg:https://www.akademie-gesang.de/wp-content/uploads/2023/11/2022-RAG-Weihnachten-scaled-1.jpg
GEO:51.6208861;7.1854148
X-APPLE-STRUCTURED-LOCATION;VALUE=URI;X-ADDRESS=Ruhrfestspielhaus Otto-Burrmeister-Allee 1 Recklinghausen NRW 45657 Deutschland;X-APPLE-RADIUS=500;X-TITLE=Otto-Burrmeister-Allee 1:geo:7.1854148,51.6208861
END:VEVENT
END:VCALENDAR