BEGIN:VCALENDAR
VERSION:2.0
PRODID:-//Akademie für Gesang NRW e. V. - ECPv5.16.1.1//NONSGML v1.0//EN
CALSCALE:GREGORIAN
METHOD:PUBLISH
X-WR-CALNAME:Akademie für Gesang NRW e. V.
X-ORIGINAL-URL:https://www.akademie-gesang.de
X-WR-CALDESC:Events for Akademie für Gesang NRW e. V.
REFRESH-INTERVAL;VALUE=DURATION:PT1H
X-Robots-Tag:noindex
X-PUBLISHED-TTL:PT1H
BEGIN:VTIMEZONE
TZID:Europe/Berlin
BEGIN:DAYLIGHT
TZOFFSETFROM:+0100
TZOFFSETTO:+0200
TZNAME:CEST
DTSTART:20250330T010000
END:DAYLIGHT
BEGIN:STANDARD
TZOFFSETFROM:+0200
TZOFFSETTO:+0100
TZNAME:CET
DTSTART:20251026T010000
END:STANDARD
END:VTIMEZONE
BEGIN:VEVENT
DTSTART;VALUE=DATE:20251016
DTEND;VALUE=DATE:20251017
DTSTAMP:20260419T150344
CREATED:20250826T160746Z
LAST-MODIFIED:20251013T092745Z
UID:5130-1760572800-1760659199@www.akademie-gesang.de
SUMMARY:Besuch KBS Fernsehsender
DESCRIPTION:Im Rahmen unserer Konzertreise nach Südkorea besucht unser Chor am 16.10.2025 auf Einladung des koreanischen Fernsehsenders KBS (Korean Broadcasting System) dessen Studios in Seoul. Wir werden dort von Vertreterinnen und Vertretern des Senders herzlich willkommen geheißen und erhalten Einblicke in die Fernseh- und Musikproduktion. Eine besondere Gelegenheit\, Kultur und Medienarbeit in Korea hautnah zu erleben
URL:https://www.akademie-gesang.de/projekt/kbs-fernsehauftritt/
LOCATION:Seoul\, Seoul\, Korea\, Republic of
CATEGORIES:Empfang
ATTACH;FMTTYPE=image/jpeg:https://www.akademie-gesang.de/wp-content/uploads/2022/11/Korea-Besetzung-vor-Abreise-c-Holger-Jacoby-scaled.jpg
GEO:37.550263;126.9970831
END:VEVENT
BEGIN:VEVENT
DTSTART;VALUE=DATE:20251023
DTEND;VALUE=DATE:20251024
DTSTAMP:20260419T150344
CREATED:20250826T163633Z
LAST-MODIFIED:20251006T175343Z
UID:5141-1761177600-1761263999@www.akademie-gesang.de
SUMMARY:Konzert bei MCM in Seoul
DESCRIPTION:Zum Abschluss unserer Konzertreise nach Südkorea wird unser Chor ein Konzert bei MCM geben.
URL:https://www.akademie-gesang.de/projekt/konzert-bei-mcm/
LOCATION:Seoul\, Seoul\, Korea\, Republic of
CATEGORIES:Konzert
ATTACH;FMTTYPE=image/jpeg:https://www.akademie-gesang.de/wp-content/uploads/2023/06/2023-08-08-Fotos-von-Festkonzert-3.jpg
GEO:37.550263;126.9970831
END:VEVENT
BEGIN:VEVENT
DTSTART;VALUE=DATE:20251026
DTEND;VALUE=DATE:20251027
DTSTAMP:20260419T150344
CREATED:20251007T102821Z
LAST-MODIFIED:20251007T102821Z
UID:5175-1761436800-1761523199@www.akademie-gesang.de
SUMMARY:Auftritt in der Hansomang Kirche in Seoul
DESCRIPTION:Am 26.10.2025 tritt unser Vokalquartett bestehend aus Lilli K.\, Anna S.\, Jana R. und Sophie B. im Rahmen der Konzertreise nach Südkorea in der Hansomang Kirche in Seoul auf.
URL:https://www.akademie-gesang.de/projekt/auftritt-in-der-hansomang-kirche-in-seoul/
LOCATION:Seoul\, Seoul\, Korea\, Republic of
CATEGORIES:Konzert
GEO:37.550263;126.9970831
END:VEVENT
END:VCALENDAR